BEGIN:VCALENDAR
PRODID:-//github.com/ical-org/ical.net//NONSGML ical.net 5.2.1//EN
VERSION:2.0
BEGIN:VTIMEZONE
TZID:Europe/Amsterdam
X-LIC-LOCATION:Europe/Amsterdam
END:VTIMEZONE
BEGIN:VEVENT
DESCRIPTION:Kasper van der Laan staat op het podium met zijn nieuwe voorste
 lling RUIM. Hij claimt de ruimte en toont een nieuwe versie van zichzelf. 
 Verwacht een onvoorspelbare en grappige show in het theater.
DTEND;TZID=Local:20270322T235900
DTSTAMP:20260425T184525Z
DTSTART;TZID=Local:20270322T200000
LOCATION:oude Luxor Theater
SEQUENCE:0
SUMMARY:Kasper van der Laan
UID:c1ac3bce-b3da-4583-a034-c286b6adde88
URL:https://www.uitagendarotterdam.nl/agenda/kasper-van-der-laan/
END:VEVENT
END:VCALENDAR
