BEGIN:VCALENDAR
PRODID:-//github.com/ical-org/ical.net//NONSGML ical.net 5.2.1//EN
VERSION:2.0
BEGIN:VTIMEZONE
TZID:Europe/Amsterdam
X-LIC-LOCATION:Europe/Amsterdam
END:VTIMEZONE
BEGIN:VEVENT
DESCRIPTION:Ervaar een spiksplinternieuwe oudejaarsvoorstelling van Dolf Ja
 nsen. Hij fileert 2026 met stand-up comedy\, po?zie en interactie\, waarb
 ij lachsalvo's en activisme hand in hand gaan. Mis deze schaamteloze avond
  niet.
DTEND;TZID=Local:20261218T235900
DTSTAMP:20260425T184623Z
DTSTART;TZID=Local:20261218T200000
LOCATION:oude Luxor Theater
SEQUENCE:0
SUMMARY:Dolf Jansen
UID:d87df53a-7798-4f00-8ea8-79859034ac77
URL:https://www.uitagendarotterdam.nl/agenda/dolf-jansen-1/
END:VEVENT
END:VCALENDAR
