BEGIN:VCALENDAR
PRODID:-//github.com/ical-org/ical.net//NONSGML ical.net 5.2.1//EN
VERSION:2.0
BEGIN:VTIMEZONE
TZID:Europe/Amsterdam
X-LIC-LOCATION:Europe/Amsterdam
END:VTIMEZONE
BEGIN:VEVENT
DESCRIPTION:Ontdek de fascinerende wereld van Frans Halsema in de biografis
 che musical 'Voor Haar'. Soy Kroon kruipt in de huid van deze legendarisch
 e cabaretier. Geniet van bekende liedjes en sc?nes die zijn carri?re ken
 merkten.
DTEND;TZID=Local:20270306T235900
DTSTAMP:20260425T185652Z
DTSTART;TZID=Local:20270306T200000
LOCATION:oude Luxor Theater
SEQUENCE:0
SUMMARY:Voor Haar\, de Frans Halsema Musical
UID:b6fee174-72e6-4aa4-8111-6e18ca27ccbc
URL:https://www.uitagendarotterdam.nl/agenda/voor-haar-de-frans-halsema-mus
 ical/
END:VEVENT
END:VCALENDAR
