BEGIN:VCALENDAR
PRODID:-//github.com/ical-org/ical.net//NONSGML ical.net 5.2.1//EN
VERSION:2.0
BEGIN:VTIMEZONE
TZID:Europe/Amsterdam
X-LIC-LOCATION:Europe/Amsterdam
END:VTIMEZONE
BEGIN:VEVENT
DESCRIPTION:Ontdek de fascinerende wereld van Frans Halsema in de biografis
 che musical 'Voor Haar'. Soy Kroon kruipt in de huid van deze legendarisch
 e cabaretier. Geniet van bekende liedjes en sc?nes die zijn carri?re ken
 merkten.
DTEND;TZID=Local:20270305T235900
DTSTAMP:20260425T185653Z
DTSTART;TZID=Local:20270305T200000
LOCATION:oude Luxor Theater
SEQUENCE:0
SUMMARY:Voor Haar\, de Frans Halsema Musical
UID:99127563-d5b1-49f9-8cc3-4924120bd809
URL:https://www.uitagendarotterdam.nl/agenda/voor-haar-de-frans-halsema-mus
 ical/
END:VEVENT
END:VCALENDAR
