BEGIN:VCALENDAR
PRODID:-//github.com/ical-org/ical.net//NONSGML ical.net 5.2.1//EN
VERSION:2.0
BEGIN:VTIMEZONE
TZID:Europe/Amsterdam
X-LIC-LOCATION:Europe/Amsterdam
END:VTIMEZONE
BEGIN:VEVENT
DESCRIPTION:Aaf Brandt Corstius en Lies Visschedijk delen inzichten over de
  liefde. Een voorstelling vol verhalen en oplossingen voor liefdesprobleme
 n.
DTEND;TZID=Local:20261104T235900
DTSTAMP:20260425T184527Z
DTSTART;TZID=Local:20261104T200000
LOCATION:oude Luxor Theater
SEQUENCE:0
SUMMARY:Aaf &#038\; Lies
UID:e4f29ce6-2385-4aa5-a287-e99a36c300d2
URL:https://www.uitagendarotterdam.nl/agenda/aaf-038-lies/
END:VEVENT
END:VCALENDAR
