BEGIN:VCALENDAR
PRODID:-//github.com/ical-org/ical.net//NONSGML ical.net 5.2.1//EN
VERSION:2.0
BEGIN:VTIMEZONE
TZID:Europe/Amsterdam
X-LIC-LOCATION:Europe/Amsterdam
END:VTIMEZONE
BEGIN:VEVENT
DESCRIPTION:Ervaar de Surinaamse cultuur\, gezelligheid en humor tijdens Sw
 it Tori\, editie 16: ?Prisiri Dey?. Geniet van top-entertainment vol p
 ositieve energie en heerlijk eten. Een complete beleving wacht op jou!
DTEND;TZID=Local:20260613T230000
DTSTAMP:20260425T184806Z
DTSTART;TZID=Local:20260613T200000
LOCATION:nieuwe Luxor Theater
SEQUENCE:0
SUMMARY:Swit Tori
UID:e363131c-7eb1-44c6-b8e8-6bd2421a3616
URL:https://www.uitagendarotterdam.nl/agenda/swit-tori/
END:VEVENT
END:VCALENDAR
