BEGIN:VCALENDAR
PRODID:-//github.com/ical-org/ical.net//NONSGML ical.net 5.2.1//EN
VERSION:2.0
BEGIN:VTIMEZONE
TZID:Europe/Amsterdam
X-LIC-LOCATION:Europe/Amsterdam
END:VTIMEZONE
BEGIN:VEVENT
DESCRIPTION:Duik in de wereld van cabaretier Ruud Smulders. Na zijn succesv
 olle theatertour R?DIVERSUM presenteert hij nu R?DSICHTSLOS. Ruud neemt 
 je mee in zijn gedachten en stelt de vraag: hoeveel houden we eigenlijk va
 n onszelf? Een ge?ngageerde voorstelling vol humor en persoonlijke reflec
 ties die je raakt.
DTEND;TZID=Local:20270109T235900
DTSTAMP:20260425T185728Z
DTSTART;TZID=Local:20270109T200000
LOCATION:oude Luxor Theater
SEQUENCE:0
SUMMARY:Ruud Smulders
UID:53c5206e-fc73-4945-b6e0-b03237234f3d
URL:https://www.uitagendarotterdam.nl/agenda/ruud-smulders/
END:VEVENT
END:VCALENDAR
