BEGIN:VCALENDAR
PRODID:-//github.com/ical-org/ical.net//NONSGML ical.net 5.2.1//EN
VERSION:2.0
BEGIN:VTIMEZONE
TZID:Europe/Amsterdam
X-LIC-LOCATION:Europe/Amsterdam
END:VTIMEZONE
BEGIN:VEVENT
DESCRIPTION:Wandel mee met stedebouwkundige Jorick Beijer langs plekken vol
  ambitie. We verzamelen om 19:30 uur op het Plein\, naast het Fenix Museum
 .
DTEND;TZID=Local:20260520T213000
DTSTAMP:20260425T184526Z
DTSTART;TZID=Local:20260520T193000
LOCATION:Fenix Plein
SEQUENCE:0
SUMMARY:WERF010 Stadsafari
UID:f9bf7e49-9a81-4156-b810-a23ad7b6833d
URL:https://www.uitagendarotterdam.nl/agenda/werf010-stadsafari/
END:VEVENT
END:VCALENDAR
