BEGIN:VCALENDAR
PRODID:-//github.com/ical-org/ical.net//NONSGML ical.net 5.2.1//EN
VERSION:2.0
BEGIN:VTIMEZONE
TZID:Europe/Amsterdam
X-LIC-LOCATION:Europe/Amsterdam
END:VTIMEZONE
BEGIN:VEVENT
DESCRIPTION:Een jonge vrouw\, haar broer en hun zieke moeder vechten tegen 
 armoede in een woestijnstadje. Ze overvallen een tankstation\, wat leidt t
 ot chaos met een corrupte sheriff. Een zingende cowboy begeleidt deze acti
 ekomedie van Jakop Ahlbom Company en ISH Dance Collective. Vol muziek\, sl
 apstick en special effects.
DTEND;TZID=Local:20261030T235900
DTSTAMP:20260425T184526Z
DTSTART;TZID=Local:20261030T200000
LOCATION:oude Luxor Theater
SEQUENCE:0
SUMMARY:A Fine Mess
UID:29aebdfc-cfab-4539-a158-2cb66ade03f6
URL:https://www.uitagendarotterdam.nl/agenda/a-fine-mess/
END:VEVENT
END:VCALENDAR
