BEGIN:VCALENDAR
PRODID:-//github.com/ical-org/ical.net//NONSGML ical.net 5.2.1//EN
VERSION:2.0
BEGIN:VTIMEZONE
TZID:Europe/Amsterdam
X-LIC-LOCATION:Europe/Amsterdam
END:VTIMEZONE
BEGIN:VEVENT
DESCRIPTION:Ervaar The Bodyguard ? de Musical. Geniet van de wereldhits v
 an Whitney Houston\, zoals ?I Will Always Love You?. Een verhaal over 
 liefde\, vertrouwen en de confrontatie met dreiging. Twee werelden komen s
 amen: die van een superster en haar bodyguard.
DTEND;TZID=Local:20270520T235900
DTSTAMP:20260425T185808Z
DTSTART;TZID=Local:20270520T200000
LOCATION:nieuwe Luxor Theater
SEQUENCE:0
SUMMARY:The Bodyguard &#8211\; de Musical
UID:6c240fcc-6f20-49bc-aaf0-8bc538aa50ab
URL:https://www.uitagendarotterdam.nl/agenda/the-bodyguard-8211-de-musical/
END:VEVENT
END:VCALENDAR
