BEGIN:VCALENDAR
PRODID:-//github.com/ical-org/ical.net//NONSGML ical.net 5.2.1//EN
VERSION:2.0
BEGIN:VTIMEZONE
TZID:Europe/Amsterdam
X-LIC-LOCATION:Europe/Amsterdam
END:VTIMEZONE
BEGIN:VEVENT
DESCRIPTION:Anne Wil Blankers en Hans Croiset vertolken A.R. Gurney?s gel
 iefde klassieker Liefdesbrieven. De voorstelling toont een levenslange cor
 respondentie vol onuitgesproken emoties\, gemiste kansen en blijvende lief
 de. Ontdek hoe woorden verlangen vastleggen en verbinden.
DTEND;TZID=Local:20260927T174500
DTSTAMP:20260425T184754Z
DTSTART;TZID=Local:20260927T143000
LOCATION:oude Luxor Theater
SEQUENCE:0
SUMMARY:Liefdesbrieven
UID:1cb2073c-a44a-4ce0-b737-f7be18db0961
URL:https://www.uitagendarotterdam.nl/agenda/liefdesbrieven/
END:VEVENT
END:VCALENDAR
