BEGIN:VCALENDAR
PRODID:-//github.com/ical-org/ical.net//NONSGML ical.net 5.2.1//EN
VERSION:2.0
BEGIN:VTIMEZONE
TZID:Europe/Amsterdam
X-LIC-LOCATION:Europe/Amsterdam
END:VTIMEZONE
BEGIN:VEVENT
DESCRIPTION:Inzicht in telefoongebruik en de invloed op jou en je kind. Psy
 choloog Thijs Launspach helpt je om gezonder met je smartphone om te gaan.
DTEND;TZID=Local:20261118T235900
DTSTAMP:20260425T185901Z
DTSTART;TZID=Local:20261118T200000
LOCATION:oude Luxor Theater
SEQUENCE:0
SUMMARY:Minder Telefoon\, Meer Leven
UID:24753c6c-896e-431a-976f-9816973a3009
URL:https://www.uitagendarotterdam.nl/agenda/minder-telefoon-meer-leven/
END:VEVENT
END:VCALENDAR
