BEGIN:VCALENDAR
PRODID:-//github.com/ical-org/ical.net//NONSGML ical.net 5.2.1//EN
VERSION:2.0
BEGIN:VTIMEZONE
TZID:Europe/Amsterdam
X-LIC-LOCATION:Europe/Amsterdam
END:VTIMEZONE
BEGIN:VEVENT
DESCRIPTION:De internationale hitsensatie Titanique strijkt neer in Nederla
 nd! Ervaar deze over-de-top musical die de iconische film Titanic op hilar
 ische wijze remixt. Laat je meeslepen door knetterende humor\, onvergeteli
 jke hits van C?line Dion en een verrassende plottwist. Zing mee met klass
 iekers als ?My Heart Will Go On? en ?All By Myself? in dit muzikal
 e fenomeen dat wereldwijd theaterprijzen won. Bereid je voor op glitter\, 
 drama\, vocaal spektakel en tranen van het lachen.
DTEND;TZID=Local:20270417T235900
DTSTAMP:20260425T184623Z
DTSTART;TZID=Local:20270417T200000
LOCATION:oude Luxor Theater
SEQUENCE:0
SUMMARY:Titanique
UID:a3fab838-5eb3-4187-87c6-413869933c83
URL:https://www.uitagendarotterdam.nl/agenda/titanique/
END:VEVENT
END:VCALENDAR
