BEGIN:VCALENDAR
PRODID:-//github.com/ical-org/ical.net//NONSGML ical.net 5.2.1//EN
VERSION:2.0
BEGIN:VTIMEZONE
TZID:Europe/Amsterdam
X-LIC-LOCATION:Europe/Amsterdam
END:VTIMEZONE
BEGIN:VEVENT
DESCRIPTION:Plien & Bianca\, de koninginnen van de Nederlandse komedie\, pr
 esenteren hun achtste theaterprogramma: Harrekidee! Ervaar een onvergeteli
 jke stoet aan hilarische typetjes en geniet van hun unieke mix van humor e
 n ontroering.
DTEND;TZID=Local:20261215T235900
DTSTAMP:20260425T185239Z
DTSTART;TZID=Local:20261215T200000
LOCATION:oude Luxor Theater
SEQUENCE:0
SUMMARY:Plien &#038\; Bianca
UID:e6335f8a-cd87-4f32-9a3f-0523ace21f95
URL:https://www.uitagendarotterdam.nl/agenda/plien-038-bianca/
END:VEVENT
END:VCALENDAR
