BEGIN:VCALENDAR
PRODID:-//github.com/ical-org/ical.net//NONSGML ical.net 5.2.1//EN
VERSION:2.0
BEGIN:VTIMEZONE
TZID:Europe/Amsterdam
X-LIC-LOCATION:Europe/Amsterdam
END:VTIMEZONE
BEGIN:VEVENT
DESCRIPTION:Duik in de Nederlandse onderwereld met misdaadjournalisten Paul
  Vugts\, Wouter Laumans en Corrie Gerritsma tijdens De Misdaadpodcast Live
 . Hoor persoonlijke verhalen en exclusieve inzichten over zware criminalit
 eit en hun leven als misdaadjournalist. Een intrigerende voorstelling met 
 ruimte voor jouw vragen.
DTEND;TZID=Local:20261120T235900
DTSTAMP:20260425T185025Z
DTSTART;TZID=Local:20261120T200000
LOCATION:oude Luxor Theater
SEQUENCE:0
SUMMARY:De Misdaadpodcast Live
UID:7125dac5-aee2-440a-bf35-319ac5715156
URL:https://www.uitagendarotterdam.nl/agenda/de-misdaadpodcast-live/
END:VEVENT
END:VCALENDAR
