BEGIN:VCALENDAR
PRODID:-//github.com/ical-org/ical.net//NONSGML ical.net 5.2.1//EN
VERSION:2.0
BEGIN:VTIMEZONE
TZID:Europe/Amsterdam
X-LIC-LOCATION:Europe/Amsterdam
END:VTIMEZONE
BEGIN:VEVENT
DESCRIPTION:Sven Ratzke brengt na successen over Marlene Dietrich en David 
 Bowie een nieuwe theatershow. Beleef ?KOPFKINO?\, een muzikaal avontuu
 r door 130 jaar cinema. Ratzke transformeert het podium tot een levend fil
 mdoek met bekende filmsongs en persoonlijke verhalen. Ontdek de sprankelen
 de wereld van film\, van Hollywoodgrandeur tot po?tische cinemameesters. 
 Laat je meevoeren door dit unieke spektakel.
DTEND;TZID=Local:20261110T235900
DTSTAMP:20260425T185143Z
DTSTART;TZID=Local:20261110T200000
LOCATION:oude Luxor Theater
SEQUENCE:0
SUMMARY:Sven Ratzke
UID:365d7280-043d-48d0-9038-d15158c16a98
URL:https://www.uitagendarotterdam.nl/agenda/sven-ratzke/
END:VEVENT
END:VCALENDAR
