BEGIN:VCALENDAR
PRODID:-//github.com/ical-org/ical.net//NONSGML ical.net 5.2.1//EN
VERSION:2.0
BEGIN:VTIMEZONE
TZID:Europe/Amsterdam
X-LIC-LOCATION:Europe/Amsterdam
END:VTIMEZONE
BEGIN:VEVENT
DESCRIPTION:Beleef een intieme avond met Alain Clark tijdens zijn nieuwe th
 eatershow Date Night. Geniet van zijn bekende nummers en ontdek de verhale
 n achter de muziek. Een persoonlijke reis door liefde\, leven en kwetsbaar
 heid.
DTEND;TZID=Local:20261210T235900
DTSTAMP:20260425T184936Z
DTSTART;TZID=Local:20261210T200000
LOCATION:oude Luxor Theater
SEQUENCE:0
SUMMARY:Alain Clark
UID:d49d47c2-3c98-46e9-aab4-4fb080da5337
URL:https://www.uitagendarotterdam.nl/agenda/alain-clark/
END:VEVENT
END:VCALENDAR
