BEGIN:VCALENDAR
PRODID:-//github.com/ical-org/ical.net//NONSGML ical.net 5.2.1//EN
VERSION:2.0
BEGIN:VTIMEZONE
TZID:Europe/Amsterdam
X-LIC-LOCATION:Europe/Amsterdam
END:VTIMEZONE
BEGIN:VEVENT
DESCRIPTION:De populaire theatershow ?Tis Hier Geen Hotel? keert terug 
 met deel 3. Saskia Smith en Martine de Vente presenteren een humoristische
  voorstelling over het leven met pubers\, met herkenbare situaties en nieu
 we uitdagingen. Ideaal voor iedereen die pubers heeft of zelf puber is gew
 eest.
DTEND;TZID=Local:20261125T235900
DTSTAMP:20260425T185314Z
DTSTART;TZID=Local:20261125T200000
LOCATION:oude Luxor Theater
SEQUENCE:0
SUMMARY:Tis hier geen hotel 3
UID:ba77b461-6c4e-4a66-b64e-4207a0745678
URL:https://www.uitagendarotterdam.nl/agenda/tis-hier-geen-hotel-3/
END:VEVENT
END:VCALENDAR
