BEGIN:VCALENDAR
PRODID:-//github.com/ical-org/ical.net//NONSGML ical.net 5.2.1//EN
VERSION:2.0
BEGIN:VTIMEZONE
TZID:Europe/Amsterdam
X-LIC-LOCATION:Europe/Amsterdam
END:VTIMEZONE
BEGIN:VEVENT
DESCRIPTION:Van der Laan en Woe zijn weer terug in het theater! Dinsdagmidd
 ag. Een absurd spannende theaterervaring over het nadeel van de twijfel.\n
 De mannen van Even Tot Hier brengen een theatershow van jewelste\, krioele
 nd van de grappen\, de sc?nes en de muzikale acts. Kom een avond naar Din
 sdagmiddag\, je krijgt er geen spijt van. Of wel??\n
DTEND;TZID=Local:20270616T235900
DTSTAMP:20260425T185126Z
DTSTART;TZID=Local:20270616T200000
LOCATION:nieuwe Luxor Theater
SEQUENCE:0
SUMMARY:Van der Laan en Woe
UID:2edb28b6-0037-45b4-98e8-770aef7159dd
URL:https://www.uitagendarotterdam.nl/agenda/van-der-laan-en-woe/
END:VEVENT
END:VCALENDAR
