BEGIN:VCALENDAR
PRODID:-//github.com/ical-org/ical.net//NONSGML ical.net 5.2.1//EN
VERSION:2.0
BEGIN:VTIMEZONE
TZID:Europe/Amsterdam
X-LIC-LOCATION:Europe/Amsterdam
END:VTIMEZONE
BEGIN:VEVENT
DESCRIPTION:De Art Crate in de Containertrap is een dynamische ontmoetingsp
 lek voor kunst\, manga en creativiteit. Ontdek de HGH LVL manga\, ontmoet 
 resident artist Adrianna en neem deel aan inspirerende workshops.
DTEND;TZID=Local:20260514T220000
DTSTAMP:20260425T184937Z
DTSTART;TZID=Local:20260514T170000
LOCATION:nieuwe Luxor Theater
SEQUENCE:0
SUMMARY:Levels Art Crate
UID:a54e4c0d-5df8-41e6-b9cf-13a188df2859
URL:https://www.uitagendarotterdam.nl/agenda/levels-art-crate/
END:VEVENT
END:VCALENDAR
