BEGIN:VCALENDAR
PRODID:-//github.com/ical-org/ical.net//NONSGML ical.net 5.2.1//EN
VERSION:2.0
BEGIN:VTIMEZONE
TZID:Europe/Amsterdam
X-LIC-LOCATION:Europe/Amsterdam
END:VTIMEZONE
BEGIN:VEVENT
DESCRIPTION:De Art Crate in de Containertrap is een dynamische ontmoetingsp
 lek voor kunst\, manga en creativiteit. Ontdek de HGH LVL manga\, ontmoet 
 resident artist Adrianna en neem deel aan inspirerende workshops.
DTEND;TZID=Local:20260507T220000
DTSTAMP:20260425T185127Z
DTSTART;TZID=Local:20260507T170000
LOCATION:nieuwe Luxor Theater
SEQUENCE:0
SUMMARY:Levels Art Crate
UID:8ae0dbba-b54c-4f79-bb50-05d962a73585
URL:https://www.uitagendarotterdam.nl/agenda/levels-art-crate/
END:VEVENT
END:VCALENDAR
