BEGIN:VCALENDAR
PRODID:-//github.com/ical-org/ical.net//NONSGML ical.net 5.2.1//EN
VERSION:2.0
BEGIN:VTIMEZONE
TZID:Europe/Amsterdam
X-LIC-LOCATION:Europe/Amsterdam
END:VTIMEZONE
BEGIN:VEVENT
DESCRIPTION:Ga mee met Sherlock Holmes en Dr. Watson in een spannend moordm
 ysterie in het theater. Een ogenschijnlijk eenvoudige zaak verandert in ee
 n complex web van geheimen en onverwachte wendingen. Kun jij de waarheid o
 ntdekken voor Holmes?
DTEND;TZID=Local:20270326T212900
DTSTAMP:20260425T185023Z
DTSTART;TZID=Local:20270326T200000
LOCATION:oude Luxor Theater
SEQUENCE:0
SUMMARY:Sherlock Holmes
UID:e0ab4215-b75d-4e01-a6c1-afdd6f912de8
URL:https://www.uitagendarotterdam.nl/agenda/sherlock-holmes/
END:VEVENT
END:VCALENDAR
