BEGIN:VCALENDAR
PRODID:-//github.com/ical-org/ical.net//NONSGML ical.net 5.2.1//EN
VERSION:2.0
BEGIN:VTIMEZONE
TZID:Europe/Amsterdam
X-LIC-LOCATION:Europe/Amsterdam
END:VTIMEZONE
BEGIN:VEVENT
DESCRIPTION:Ga mee met Sherlock Holmes en Dr. Watson in een spannend moordm
 ysterie in het theater. Een ogenschijnlijk eenvoudige zaak verandert in ee
 n complex web van geheimen en onverwachte wendingen. Kun jij de waarheid o
 ntdekken voor Holmes?
DTEND;TZID=Local:20270325T212900
DTSTAMP:20260425T184936Z
DTSTART;TZID=Local:20270325T200000
LOCATION:oude Luxor Theater
SEQUENCE:0
SUMMARY:Sherlock Holmes
UID:fc69b30f-b043-44c2-b780-cd0e97856e6c
URL:https://www.uitagendarotterdam.nl/agenda/sherlock-holmes/
END:VEVENT
END:VCALENDAR
