BEGIN:VCALENDAR
PRODID:-//github.com/ical-org/ical.net//NONSGML ical.net 5.2.1//EN
VERSION:2.0
BEGIN:VTIMEZONE
TZID:Europe/Amsterdam
X-LIC-LOCATION:Europe/Amsterdam
END:VTIMEZONE
BEGIN:VEVENT
DESCRIPTION:Huub Stapel keert terug met een vernieuwde one-man-show over li
 efde en relaties. Ontdek met humor en zelfspot hoe je elkaar beter begrijp
 t. Een avond vol herkenning en inzichten over verbinding.
DTEND;TZID=Local:20261025T225900
DTSTAMP:20260425T185959Z
DTSTART;TZID=Local:20261025T143000
LOCATION:oude Luxor Theater
SEQUENCE:0
SUMMARY:Huub Stapel
UID:06e5dd5f-2b34-42d0-87c3-2851c12389f7
URL:https://www.uitagendarotterdam.nl/agenda/huub-stapel-1/
END:VEVENT
END:VCALENDAR
