BEGIN:VCALENDAR
PRODID:-//github.com/ical-org/ical.net//NONSGML ical.net 5.2.1//EN
VERSION:2.0
BEGIN:VTIMEZONE
TZID:Europe/Amsterdam
X-LIC-LOCATION:Europe/Amsterdam
END:VTIMEZONE
BEGIN:VEVENT
DESCRIPTION:Ren? van Meurs staat op het hoogtepunt van zijn geluk. In zijn
  voorstelling Noodzakelijk kwaad onderzoekt hij dit gevoel\, beschermt hij
  zijn behaalde geluk en de keerzijde van een vrolijk imago. Met zijn vorig
 e show uitgeroepen tot beste cabaretprogramma\, belooft dit een hilarische
  en doordachte avond te worden.
DTEND;TZID=Local:20270113T235900
DTSTAMP:20260425T185239Z
DTSTART;TZID=Local:20270113T200000
LOCATION:oude Luxor Theater
SEQUENCE:0
SUMMARY:Ren? van Meurs
UID:b2e19520-1002-45a2-b53a-926a0e7d19a5
URL:https://www.uitagendarotterdam.nl/agenda/rene-van-meurs/
END:VEVENT
END:VCALENDAR
