BEGIN:VCALENDAR
PRODID:-//github.com/ical-org/ical.net//NONSGML ical.net 5.2.1//EN
VERSION:2.0
BEGIN:VTIMEZONE
TZID:Europe/Amsterdam
X-LIC-LOCATION:Europe/Amsterdam
END:VTIMEZONE
BEGIN:VEVENT
DESCRIPTION:Ren? van Meurs staat op het hoogtepunt van zijn geluk. In zijn
  voorstelling Noodzakelijk kwaad onderzoekt hij dit gevoel\, beschermt hij
  zijn behaalde geluk en de keerzijde van een vrolijk imago. Met zijn vorig
 e show uitgeroepen tot beste cabaretprogramma\, belooft dit een hilarische
  en doordachte avond te worden.
DTEND;TZID=Local:20270112T235900
DTSTAMP:20260425T185142Z
DTSTART;TZID=Local:20270112T200000
LOCATION:oude Luxor Theater
SEQUENCE:0
SUMMARY:Ren? van Meurs
UID:1a6dd155-e600-48a1-bcd2-03e6997426d1
URL:https://www.uitagendarotterdam.nl/agenda/rene-van-meurs/
END:VEVENT
END:VCALENDAR
