BEGIN:VCALENDAR
PRODID:-//github.com/ical-org/ical.net//NONSGML ical.net 5.2.1//EN
VERSION:2.0
BEGIN:VTIMEZONE
TZID:Europe/Amsterdam
X-LIC-LOCATION:Europe/Amsterdam
END:VTIMEZONE
BEGIN:VEVENT
DESCRIPTION:Ervaar een eerbetoon aan Golden Earring met de band Coming On S
 trong! Als trotse nummer 3 van The Tribute: Battle of the Bands\, brengen 
 zij de iconische muziek live en vol overgave. Hoor klassiekers en grote hi
 ts zoals Radar Love en Another 45 Miles.
DTEND;TZID=Local:20260925T235900
DTSTAMP:20260425T185126Z
DTSTART;TZID=Local:20260925T200000
LOCATION:oude Luxor Theater
SEQUENCE:0
SUMMARY:Coming on Strong!
UID:9cb779cc-1fce-4076-ac87-cf1745c74c0a
URL:https://www.uitagendarotterdam.nl/agenda/coming-on-strong/
END:VEVENT
END:VCALENDAR
