BEGIN:VCALENDAR
PRODID:-//github.com/ical-org/ical.net//NONSGML ical.net 5.2.1//EN
VERSION:2.0
BEGIN:VTIMEZONE
TZID:Europe/Amsterdam
X-LIC-LOCATION:Europe/Amsterdam
END:VTIMEZONE
BEGIN:VEVENT
DESCRIPTION:Com?dienne Esther van der Voort\, alleenstaande moeder en ex-a
 mbtenaar\, zoekt op humoristische wijze naar de belangrijke zaken in het l
 even. Ze vraagt zich af of ze altijd de juiste keuzes heeft gemaakt of puu
 r op emotie reageerde in haar hectische leven met 4 kinderen. Een herkenba
 re voorstelling vol zelfreflectie en humor.
DTEND;TZID=Local:20270102T235900
DTSTAMP:20260425T185239Z
DTSTART;TZID=Local:20270102T200000
LOCATION:oude Luxor Theater
SEQUENCE:0
SUMMARY:Esther van der Voort
UID:fa8edc5a-236a-446b-b27e-85dd249450ca
URL:https://www.uitagendarotterdam.nl/agenda/esther-van-der-voort-2/
END:VEVENT
END:VCALENDAR
