BEGIN:VCALENDAR
PRODID:-//github.com/ical-org/ical.net//NONSGML ical.net 5.2.1//EN
VERSION:2.0
BEGIN:VTIMEZONE
TZID:Europe/Amsterdam
X-LIC-LOCATION:Europe/Amsterdam
END:VTIMEZONE
BEGIN:VEVENT
DESCRIPTION:Laat je inspireren door Cha Chi Versaci\, bekend van social med
 ia en televisie. Hij deelt zijn persoonlijke levensverhaal\, vol veerkrach
 t en het kiezen van je eigen pad. Geschikt voor jong en oud.
DTEND;TZID=Local:20261017T235900
DTSTAMP:20260425T185121Z
DTSTART;TZID=Local:20261017T193000
LOCATION:oude Luxor Theater
SEQUENCE:0
SUMMARY:Cha Chi Versaci
UID:650af289-d62b-45d9-a994-92eccf2c2d79
URL:https://www.uitagendarotterdam.nl/agenda/cha-chi-versaci/
END:VEVENT
END:VCALENDAR
