BEGIN:VCALENDAR
PRODID:-//github.com/ical-org/ical.net//NONSGML ical.net 5.2.1//EN
VERSION:2.0
BEGIN:VTIMEZONE
TZID:Europe/Amsterdam
X-LIC-LOCATION:Europe/Amsterdam
END:VTIMEZONE
BEGIN:VEVENT
DESCRIPTION:Met trots presenteert Stichting Confro deze editie van ?90 Mi
 nutes With...? Soundos El Ahmadi & Annemarie Lekkerkerker. Voor het eers
 t wordt deze avond gepresenteerd door vaste gast Nienke 's Gravemade. Dit 
 keer in het teken van vrouwenveiligheid op straat.?
DTSTAMP:20260425T190111Z
DTSTART;TZID=Local:20260529T203000
LOCATION:Theater Zuidplein
SEQUENCE:0
SUMMARY:90 minutes with...Soundos El Ahmadi en Annemarie Lekkerkerker
UID:108afac7-0aeb-4068-9d51-53c630af583d
URL:https://www.uitagendarotterdam.nl/agenda/90-minutes-withsoundos-el-ahma
 di-en-annemarie-lekkerkerker/
END:VEVENT
END:VCALENDAR
