BEGIN:VCALENDAR
PRODID:-//github.com/ical-org/ical.net//NONSGML ical.net 5.2.1//EN
VERSION:2.0
BEGIN:VTIMEZONE
TZID:Europe/Amsterdam
X-LIC-LOCATION:Europe/Amsterdam
END:VTIMEZONE
BEGIN:VEVENT
DESCRIPTION:Duik in de politieke keuken met makers van podcasts als Achter 
 de Macht en De Spindoctors. Ontdek hoe politieke besluiten echt tot stand 
 komen. Vier insiders delen hun kennis over politieke strategie\, campagnev
 oering en media in deze unieke theateravond.
DTEND;TZID=Local:20270203T235900
DTSTAMP:20260425T185143Z
DTSTART;TZID=Local:20270203T200000
LOCATION:oude Luxor Theater
SEQUENCE:0
SUMMARY:Achter de Macht
UID:64701dda-6a9c-4f50-ae7e-96cd2034c5c6
URL:https://www.uitagendarotterdam.nl/agenda/achter-de-macht/
END:VEVENT
END:VCALENDAR
