BEGIN:VCALENDAR
PRODID:-//github.com/ical-org/ical.net//NONSGML ical.net 5.2.1//EN
VERSION:2.0
BEGIN:VTIMEZONE
TZID:Europe/Amsterdam
X-LIC-LOCATION:Europe/Amsterdam
END:VTIMEZONE
BEGIN:VEVENT
DESCRIPTION:Onderdeel van het 60-jarig jubileum van de Doelen | bewandel de
  Doelen-kunstroute
DTEND;TZID=Local:20260515T160000
DTSTAMP:20260425T185948Z
DTSTART;TZID=Local:20260515T140000
LOCATION:de Doelen Studio's
SEQUENCE:0
SUMMARY:Art Walks Live Onderdeel van het 60-jarig jubileum van de Doelen | 
 bewandel de Doelen-kunstroute
UID:c44beedc-65d1-45e9-975c-0a49a4d28cc3
URL:https://www.uitagendarotterdam.nl/agenda/art-walks-live-onderdeel-van-h
 et-60-jarig-jubileum-van-de-doelen-bewandel-de-doelen-kunstroute/
END:VEVENT
END:VCALENDAR
