BEGIN:VCALENDAR
PRODID:-//github.com/ical-org/ical.net//NONSGML ical.net 5.2.1//EN
VERSION:2.0
BEGIN:VTIMEZONE
TZID:Europe/Amsterdam
X-LIC-LOCATION:Europe/Amsterdam
END:VTIMEZONE
BEGIN:VEVENT
DESCRIPTION:Festival O.\, NANOEK en Luxor Theater organiseren het Musical S
 ympOsium. Dit is een middag voor professionals uit de musicalsector. Denk 
 mee over de huidige staat van musical in Nederland\, duurzame ontwikkeling
  en nieuwe makers. Registratie is kosteloos en verplicht.
DTEND;TZID=Local:20260529T163000
DTSTAMP:20260425T185141Z
DTSTART;TZID=Local:20260529T130000
LOCATION:nieuwe Luxor Theater
SEQUENCE:0
SUMMARY:Musical SympOsium
UID:eaab4c21-24fd-4193-9384-b0f522607f3c
URL:https://www.uitagendarotterdam.nl/agenda/musical-symposium/
END:VEVENT
END:VCALENDAR
