BEGIN:VCALENDAR
PRODID:-//github.com/ical-org/ical.net//NONSGML ical.net 5.2.1//EN
VERSION:2.0
BEGIN:VTIMEZONE
TZID:Europe/Amsterdam
X-LIC-LOCATION:Europe/Amsterdam
END:VTIMEZONE
BEGIN:VEVENT
DESCRIPTION:Cinema\, food\, music and conversation to celebrate Internation
 al Workers Day.
DTEND;TZID=Local:20260430T230000
DTSTAMP:20260425T185959Z
DTSTART;TZID=Local:20260430T200000
LOCATION:
SEQUENCE:0
SUMMARY:Dispositif x IFFR x OASE presents... New Narratives: In this togeth
 er
UID:42e58114-81f2-4530-90e6-3603188e50c8
URL:https://www.uitagendarotterdam.nl/agenda/dispositif-x-iffr-x-oase-prese
 nts-new-narratives-in-this-together/
END:VEVENT
END:VCALENDAR
