BEGIN:VCALENDAR
PRODID:-//github.com/ical-org/ical.net//NONSGML ical.net 5.2.1//EN
VERSION:2.0
BEGIN:VTIMEZONE
TZID:Europe/Amsterdam
X-LIC-LOCATION:Europe/Amsterdam
END:VTIMEZONE
BEGIN:VEVENT
DESCRIPTION:KANTELPUNT is een dansvoorstelling van Marc Vlemmix Dance over 
 momenten van verandering. Je ervaart persoonlijke verhalen via unieke dans
 taal in 3 delen: MAGNOLIA\, EGO-IST en ALL-I-HAVE. Ontdek nieuwe perspecti
 even op het lichaam en doorzettingsvermogen.
DTEND;TZID=Local:20260614T163000
DTSTAMP:20260425T185024Z
DTSTART;TZID=Local:20260614T153000
LOCATION:oude Luxor Theater
SEQUENCE:0
SUMMARY:Marc Vlemmix Dance
UID:585b74b7-bc1e-48cc-afc9-58b2b62f7212
URL:https://www.uitagendarotterdam.nl/agenda/marc-vlemmix-dance/
END:VEVENT
END:VCALENDAR
