BEGIN:VCALENDAR
PRODID:-//github.com/ical-org/ical.net//NONSGML ical.net 5.2.1//EN
VERSION:2.0
BEGIN:VTIMEZONE
TZID:Europe/Amsterdam
X-LIC-LOCATION:Europe/Amsterdam
END:VTIMEZONE
BEGIN:VEVENT
DESCRIPTION:In 2025 viert het Nationale Ballet van Georgi? Sukhishvili zij
 n 80-jarig jubileum. Dit ensemble betovert je met Georgische dans in een s
 pectaculaire jubileumtour.
DTEND;TZID=Local:20270217T220000
DTSTAMP:20260425T185918Z
DTSTART;TZID=Local:20270217T200000
LOCATION:nieuwe Luxor Theater
SEQUENCE:0
SUMMARY:Het Nationale Ballet van Georgi? Sukhishvili
UID:a6aded89-d789-44c1-a024-9fc28e35c51b
URL:https://www.uitagendarotterdam.nl/agenda/het-nationale-ballet-van-georg
 ie-sukhishvili/
END:VEVENT
END:VCALENDAR
