BEGIN:VCALENDAR
PRODID:-//github.com/ical-org/ical.net//NONSGML ical.net 5.2.1//EN
VERSION:2.0
BEGIN:VTIMEZONE
TZID:Europe/Amsterdam
X-LIC-LOCATION:Europe/Amsterdam
END:VTIMEZONE
BEGIN:VEVENT
DESCRIPTION:Laat je inspireren door Feng Shui\, Yin & Yang en de vijf eleme
 nten door lezingen\, workshops\, kraampjes en speeddates met Feng Shui pro
 fessionals.
DTEND;TZID=Local:20260607T170000
DTSTAMP:20260425T185815Z
DTSTART;TZID=Local:20260607T110000
LOCATION:Landgoed Vidaa
SEQUENCE:0
SUMMARY:het feng shui festival
UID:5f26cd9b-46a5-411a-8970-0604bead4791
URL:https://www.uitagendarotterdam.nl/agenda/het-feng-shui-festival/
END:VEVENT
END:VCALENDAR
