BEGIN:VCALENDAR
PRODID:-//github.com/ical-org/ical.net//NONSGML ical.net 5.2.1//EN
VERSION:2.0
BEGIN:VTIMEZONE
TZID:Europe/Amsterdam
X-LIC-LOCATION:Europe/Amsterdam
END:VTIMEZONE
BEGIN:VEVENT
DESCRIPTION:Van Malle Babbe tot Dancing Queen! HET MEEZINGSPEKTAKEL XL komt
  naar het theater. Zing mee met ruim 50 liedjes uit 50 jaar muziekgeschied
 enis en geniet van een interactieve show vol humor en vrolijkheid. Een fee
 st voor iedereen!
DTEND;TZID=Local:20270409T235900
DTSTAMP:20260425T185815Z
DTSTART;TZID=Local:20270409T200000
LOCATION:nieuwe Luxor Theater
SEQUENCE:0
SUMMARY:HET MEEZINGSPEKTAKEL XL
UID:43988d8e-db51-443e-bbac-b748037daed7
URL:https://www.uitagendarotterdam.nl/agenda/het-meezingspektakel-xl/
END:VEVENT
END:VCALENDAR
