BEGIN:VCALENDAR
PRODID:-//github.com/ical-org/ical.net//NONSGML ical.net 5.2.1//EN
VERSION:2.0
BEGIN:VTIMEZONE
TZID:Europe/Amsterdam
X-LIC-LOCATION:Europe/Amsterdam
END:VTIMEZONE
BEGIN:VEVENT
DESCRIPTION:Het Zwanenmeer is d? klassieker onder de klassiekers. De magis
 che uitvoering met kostuums en decors om bij weg te dromen weet publiek va
 n jong tot oud te betoveren.\nIn Het Zwanenmeer draait alles om een noodlo
 ttige liefde. Prins Siegfried wordt verliefd op prinses Odette. Ze kunnen 
 niet samen zijn\, omdat zij door een boze tovenaar in een witte zwaan is v
 eranderd. Alleen ware liefde kan de magie verbreken.\n
DTEND;TZID=Local:20270102T235900
DTSTAMP:20260425T185120Z
DTSTART;TZID=Local:20270102T200000
LOCATION:nieuwe Luxor Theater
SEQUENCE:0
SUMMARY:Het Zwanenmeer
UID:21e406f0-d0dd-44d5-b91b-86050baee2a0
URL:https://www.uitagendarotterdam.nl/agenda/het-zwanenmeer/
END:VEVENT
END:VCALENDAR
