BEGIN:VCALENDAR
PRODID:-//github.com/ical-org/ical.net//NONSGML ical.net 5.2.1//EN
VERSION:2.0
BEGIN:VTIMEZONE
TZID:Europe/Amsterdam
X-LIC-LOCATION:Europe/Amsterdam
END:VTIMEZONE
BEGIN:VEVENT
DESCRIPTION:Mr. Jones & Just In Case\, bekend van The Tribute Battle of the
  Bands\, brengt een eerbetoon aan Tom Jones. Geniet van de grootste hits e
 n mooiste ballads in een theatershow vol charme en entertainment. Beleef d
 e gloriedagen van Jones in Las Vegas opnieuw.
DTEND;TZID=Local:20260930T235900
DTSTAMP:20260425T184804Z
DTSTART;TZID=Local:20260930T200000
LOCATION:oude Luxor Theater
SEQUENCE:0
SUMMARY:Mr. Jones &#038\; Just in Case
UID:6e1a4e75-5dd2-4c78-b49f-73cbdf18ed87
URL:https://www.uitagendarotterdam.nl/agenda/mr-jones-038-just-in-case/
END:VEVENT
END:VCALENDAR
