BEGIN:VCALENDAR
PRODID:-//github.com/ical-org/ical.net//NONSGML ical.net 5.2.1//EN
VERSION:2.0
BEGIN:VTIMEZONE
TZID:Europe/Amsterdam
X-LIC-LOCATION:Europe/Amsterdam
END:VTIMEZONE
BEGIN:VEVENT
DESCRIPTION:Filmclub is een initiatief van International Film Festival Rott
 erdam (IFFR). Filmclub zorgt ervoor dat (aankomende) filmliefhebbers\, jon
 ge filmmakers en creatieven bij elkaar komen op verschillende plekken in d
 e stad om films te kijken en interesses uit te wisselen. In de filmclub in
  Dokhuis kijken we films van Rotterdamse makers of met een Rotterdams tint
 je.
DTEND;TZID=Local:20260501T210000
DTSTAMP:20260425T185653Z
DTSTART;TZID=Local:20260501T190000
LOCATION:Dokhuis Rotterdam
SEQUENCE:0
SUMMARY:IFFR Filmclub in Dokhuis
UID:8cd23460-deb3-4a10-998f-d4047b322bd0
URL:https://www.uitagendarotterdam.nl/agenda/iffr-filmclub-in-dokhuis/
END:VEVENT
END:VCALENDAR
