BEGIN:VCALENDAR
PRODID:-//github.com/ical-org/ical.net//NONSGML ical.net 5.2.1//EN
VERSION:2.0
BEGIN:VTIMEZONE
TZID:Europe/Amsterdam
X-LIC-LOCATION:Europe/Amsterdam
END:VTIMEZONE
BEGIN:VEVENT
DESCRIPTION:Vanuit een residentie op Boerderij Driebergen groeit het werk v
 an J?ryh Luz uit tot een Femme in Focus live-set met...
DTSTAMP:20260425T185808Z
DTSTART;TZID=Local:20260627T173000
LOCATION:Boerderij Driebergen Rotterdam
SEQUENCE:0
SUMMARY:J?ryh Luz\, live set (Premi?re) &#8211\; Femme in Focus 2026
UID:bcf3c5a6-489f-4ff7-8dc8-d02efb02f670
URL:https://www.uitagendarotterdam.nl/agenda/jeryh-luz-live-set-premiere-82
 11-femme-in-focus-2026/
END:VEVENT
END:VCALENDAR
