BEGIN:VCALENDAR
PRODID:-//github.com/ical-org/ical.net//NONSGML ical.net 5.2.1//EN
VERSION:2.0
BEGIN:VTIMEZONE
TZID:Europe/Amsterdam
X-LIC-LOCATION:Europe/Amsterdam
END:VTIMEZONE
BEGIN:VEVENT
DESCRIPTION:Beleef de veelzijdige carri?re van Broederliefde in het theate
 r. Deze Nederlandse hiphopgroep deelt hun bijzondere verhaal\, van hun beg
 in tot hun grote successen. Verken hun muzikale reis en de keuzes achter h
 un bekende nummers tijdens een unieke avond vol liefde en vriendschap.
DTEND;TZID=Local:20260924T235900
DTSTAMP:20260425T184622Z
DTSTART;TZID=Local:20260924T200000
LOCATION:nieuwe Luxor Theater
SEQUENCE:0
SUMMARY:Broederliefde in theater
UID:32e931b2-fe0d-40ba-8fb5-84b55111d5b0
URL:https://www.uitagendarotterdam.nl/agenda/broederliefde-in-theater/
END:VEVENT
END:VCALENDAR
