BEGIN:VCALENDAR
PRODID:-//github.com/ical-org/ical.net//NONSGML ical.net 5.2.1//EN
VERSION:2.0
BEGIN:VTIMEZONE
TZID:Europe/Amsterdam
X-LIC-LOCATION:Europe/Amsterdam
END:VTIMEZONE
BEGIN:VEVENT
DESCRIPTION:Duik in de wereld van wetenschap en ontdek wat echt is en wat n
 ep. De Volkskrant podcast staat live in het theater met experts\, fasciner
 ende mini-colleges en een publieksexperiment. Kom dichterbij de mysteries 
 van de kosmos en de menselijke geest.
DTEND;TZID=Local:20260916T235900
DTSTAMP:20260425T184938Z
DTSTART;TZID=Local:20260916T200000
LOCATION:oude Luxor Theater
SEQUENCE:0
SUMMARY:Ondertussen in de Kosmos &#8211\; Live
UID:6b773c05-a43b-4422-a23c-447db976d552
URL:https://www.uitagendarotterdam.nl/agenda/ondertussen-in-de-kosmos-8211-
 live/
END:VEVENT
END:VCALENDAR
