BEGIN:VCALENDAR
PRODID:-//github.com/ical-org/ical.net//NONSGML ical.net 5.2.1//EN
VERSION:2.0
BEGIN:VTIMEZONE
TZID:Europe/Amsterdam
X-LIC-LOCATION:Europe/Amsterdam
END:VTIMEZONE
BEGIN:VEVENT
DESCRIPTION:Emile krijgt de diagnose jong-alzheimer en besluit zijn leven o
 m te gooien. Hij koopt een camper en zoekt een reisgenoot. Joanne reageert
  en samen beginnen ze aan een onverwachte roadtrip. Deze ontroerende muzie
 ktheatervoorstelling verkent thema's als verlies\, hoop en een nieuw begin
 . Het stuk\, gebaseerd op de bestseller van M?lissa Da Costa\, toont de m
 oed om jezelf te confronteren.
DTEND;TZID=Local:20270310T235900
DTSTAMP:20260425T184806Z
DTSTART;TZID=Local:20270310T200000
LOCATION:oude Luxor Theater
SEQUENCE:0
SUMMARY:Al het blauw van de hemel
UID:e29641cf-96c8-4083-b44b-02f80e18ed5a
URL:https://www.uitagendarotterdam.nl/agenda/al-het-blauw-van-de-hemel/
END:VEVENT
END:VCALENDAR
