BEGIN:VCALENDAR
PRODID:-//github.com/ical-org/ical.net//NONSGML ical.net 5.2.1//EN
VERSION:2.0
BEGIN:VTIMEZONE
TZID:Europe/Amsterdam
X-LIC-LOCATION:Europe/Amsterdam
END:VTIMEZONE
BEGIN:VEVENT
DESCRIPTION:Taylor zit een zware gevangenisstraf uit voor een klein vergrij
 p.
DTEND;TZID=Local:20260504T145000
DTSTAMP:20260425T184525Z
DTSTART;TZID=Local:20260504T130000
LOCATION:Path? De Kuip
SEQUENCE:0
SUMMARY:Wasteman
UID:89d6b91d-cdf0-4b9f-99c4-0a497ba8090a
URL:https://www.uitagendarotterdam.nl/agenda/wasteman/
END:VEVENT
END:VCALENDAR
