BEGIN:VCALENDAR
PRODID:-//github.com/ical-org/ical.net//NONSGML ical.net 5.2.1//EN
VERSION:2.0
BEGIN:VTIMEZONE
TZID:Europe/Amsterdam
X-LIC-LOCATION:Europe/Amsterdam
END:VTIMEZONE
BEGIN:VEVENT
DESCRIPTION:Taylor zit een zware gevangenisstraf uit voor een klein vergrij
 p.
DTEND;TZID=Local:20260501T222000
DTSTAMP:20260425T184621Z
DTSTART;TZID=Local:20260501T203000
LOCATION:Path? De Kuip
SEQUENCE:0
SUMMARY:Wasteman
UID:ffbaab71-8643-4adc-9b00-5a798ada5554
URL:https://www.uitagendarotterdam.nl/agenda/wasteman/
END:VEVENT
END:VCALENDAR
