BEGIN:VCALENDAR
PRODID:-//github.com/ical-org/ical.net//NONSGML ical.net 5.2.1//EN
VERSION:2.0
BEGIN:VTIMEZONE
TZID:Europe/Amsterdam
X-LIC-LOCATION:Europe/Amsterdam
END:VTIMEZONE
BEGIN:VEVENT
DESCRIPTION:In deze grappige familiefilm speelt Hugh Jackman een herder gen
 aamd George\, die zijn geliefde schapen iedere avond voorleest uit detecti
 veboeken.
DTEND;TZID=Local:20260502T132900
DTSTAMP:20260425T184541Z
DTSTART;TZID=Local:20260502T112000
LOCATION:Path? De Kuip
SEQUENCE:0
SUMMARY:De Schapenspeurders
UID:3fea46c2-33ef-4119-9ad8-0cb198b78148
URL:https://www.uitagendarotterdam.nl/agenda/de-schapenspeurders-1/
END:VEVENT
END:VCALENDAR
