BEGIN:VCALENDAR
PRODID:-//github.com/ical-org/ical.net//NONSGML ical.net 5.2.1//EN
VERSION:2.0
BEGIN:VTIMEZONE
TZID:Europe/Amsterdam
X-LIC-LOCATION:Europe/Amsterdam
END:VTIMEZONE
BEGIN:VEVENT
DESCRIPTION:Rohan loves colleague Meera but can't confess his feelings.
DTEND;TZID=Local:20260506T210000
DTSTAMP:20260425T184541Z
DTSTART;TZID=Local:20260506T184000
LOCATION:Path? De Kuip
SEQUENCE:0
SUMMARY:Ek Din
UID:7897f3a9-a002-452d-898c-918d8f81d9bd
URL:https://www.uitagendarotterdam.nl/agenda/ek-din/
END:VEVENT
END:VCALENDAR
