BEGIN:VCALENDAR
PRODID:-//github.com/ical-org/ical.net//NONSGML ical.net 5.2.1//EN
VERSION:2.0
BEGIN:VTIMEZONE
TZID:Europe/Amsterdam
X-LIC-LOCATION:Europe/Amsterdam
END:VTIMEZONE
BEGIN:VEVENT
DESCRIPTION:Rohan loves colleague Meera but can't confess his feelings.
DTEND;TZID=Local:20260504T210500
DTSTAMP:20260425T184542Z
DTSTART;TZID=Local:20260504T184500
LOCATION:Path? De Kuip
SEQUENCE:0
SUMMARY:Ek Din
UID:63330c3d-e9f3-4731-bf5a-d1542ab29f24
URL:https://www.uitagendarotterdam.nl/agenda/ek-din/
END:VEVENT
END:VCALENDAR
